BEGIN:VCALENDAR
VERSION:2.0
PRODID:-//RIGHTHERE//CALENDARIZE IT V3.2//EN
BEGIN:VEVENT
UID:2058-events@oleaginosos.org.uy
DTSTART:20151112T123000Z
DTEND:20151112T210000Z
SUMMARY:Jornada de INIA sobre manejo de malezas en campo natural región norte
URL:https://oleaginosos.org.uy/curso/jornada-de-inia-sobre-manejo-de-malezas-en-campo-natural-region-norte
ORGANIZER;CN=INIA Tacuarembó:MAILTO:zbarrios@tb.inia.org.uy
LOCATION:Tacuarembó\, UY
END:VEVENT
END:VCALENDAR